BEGIN:VCALENDAR
VERSION:2.0
PRODID:-//hacksw/handcal//NONSGML v1.0//EN
BEGIN:VEVENT
SUMMARY:1 MAI CHAMPIONNAT REGIONAL PAR EQUIPES FED A + SOFIA / LEANE / LEA / ELINA LIEU A ST JEAN DE BRAYS
UID:28aacf5f-75ab-4f26-a349-8668f8b87f58
DTSTART:20260501T134500Z
DTEND:20260501T163000Z
LOCATION:Localisation HALL DES SPORTS 3 RUE LEON BLUM 45800 ST JEAN DE BRAYS
CATEGORIES:Sportif
STATUS:
URL;VALUE=URI:https://gym41.sportsregions.fr/evenements/2026/05/01/1-mai-championnat-regional-par-equipes-fed-a-sofia-leane-lea-elina-lieu-a-st-jean-de-brays-2442744
END:VEVENT
END:VCALENDAR
